1551.823242
0
0
-1551.954224
-10598869.000000
5668645.500000
