1237.536621
0
0
-1237.627441
-8824203.000000
5333494.500000
