1685.258911
0
0
-1685.421509
-11719448.000000
6247844.000000
