1032.130371
0
0
-1032.169922
-9963283.000000
4056268.000000
