1525.878540
0
0
-1526.009766
-13456986.000000
5659190.500000
