1179.682129
0
0
-1179.764648
-11952784.000000
5055577.500000
