1045.900879
0
0
-1045.980347
-8252807.500000
5326159.500000
