684.042847
0
0
-684.050659
-11123569.000000
3164714.750000
