1107.608032
0
0
-1107.704224
-8492758.000000
5651918.000000
