1139.688354
0
0
-1139.781006
-8943143.000000
5471972.500000
