1615.621460
0
0
-1615.764648
-12431291.000000
5981225.000000
