1092.639282
0
0
-1092.689575
-9360758.000000
4158711.500000
