1757.843750
0
0
-1758.000000
-8132462.000000
5989219.500000
