1108.148193
0
0
-1108.192871
-9298315.000000
3963873.000000
