906.083923
0
0
-906.150330
-9413069.000000
5115405.000000
