795.483948
0
0
-795.500000
-11150933.000000
3369578.000000
