1187.343750
0
0
-1187.432983
-8988237.000000
5158290.500000
