1295.157104
0
0
-1295.261475
-12081468.000000
5373156.500000
