1047.989258
0
0
-1048.065308
-11458873.000000
4729663.000000
