1837.898193
0
0
-1838.068604
-10771511.000000
6212121.000000
