1517.187500
0
0
-1517.305542
-10875249.000000
5365164.500000
