1215.433960
0
0
-1215.532715
-9675173.000000
5459475.500000
