1312.073242
0
0
-1312.171509
-10475402.000000
5252888.000000
