1252.073242
0
0
-1252.165039
-10821477.000000
4931888.000000
